BEGIN:VCALENDAR
VERSION:2.0
PRODID:-//Syndicat SUD Santé-Sociaux de Loire-Atlantique - ECPv6.15.17.1//NONSGML v1.0//EN
CALSCALE:GREGORIAN
METHOD:PUBLISH
X-ORIGINAL-URL:https://sudsantesociaux44.fr
X-WR-CALDESC:Évènements pour Syndicat SUD Santé-Sociaux de Loire-Atlantique
REFRESH-INTERVAL;VALUE=DURATION:PT1H
X-Robots-Tag:noindex
X-PUBLISHED-TTL:PT1H
BEGIN:VTIMEZONE
TZID:Europe/Paris
BEGIN:DAYLIGHT
TZOFFSETFROM:+0100
TZOFFSETTO:+0200
TZNAME:CEST
DTSTART:20220327T010000
END:DAYLIGHT
BEGIN:STANDARD
TZOFFSETFROM:+0200
TZOFFSETTO:+0100
TZNAME:CET
DTSTART:20221030T010000
END:STANDARD
BEGIN:DAYLIGHT
TZOFFSETFROM:+0100
TZOFFSETTO:+0200
TZNAME:CEST
DTSTART:20230326T010000
END:DAYLIGHT
BEGIN:STANDARD
TZOFFSETFROM:+0200
TZOFFSETTO:+0100
TZNAME:CET
DTSTART:20231029T010000
END:STANDARD
BEGIN:DAYLIGHT
TZOFFSETFROM:+0100
TZOFFSETTO:+0200
TZNAME:CEST
DTSTART:20240331T010000
END:DAYLIGHT
BEGIN:STANDARD
TZOFFSETFROM:+0200
TZOFFSETTO:+0100
TZNAME:CET
DTSTART:20241027T010000
END:STANDARD
END:VTIMEZONE
BEGIN:VEVENT
DTSTART;TZID=Europe/Paris:20230909T100000
DTEND;TZID=Europe/Paris:20230909T130000
DTSTAMP:20260422T020318
CREATED:20230907T161422Z
LAST-MODIFIED:20230907T161424Z
UID:2870-1694253600-1694264400@sudsantesociaux44.fr
SUMMARY:Manifestation contre la fermeture de la maternité d'Ancenis!
DESCRIPTION:Maternité d’Ancenis: samedi 9 septembre rendez-vous 10h devant la station esso pour manifester contre la fermeture du service! Venez nombreux!
URL:https://sudsantesociaux44.fr/event/manifestation-contre-la-fermeture-de-la-maternite-dancenis/
END:VEVENT
BEGIN:VEVENT
DTSTART;TZID=Europe/Paris:20230922T180000
DTEND;TZID=Europe/Paris:20230922T200000
DTSTAMP:20260422T020318
CREATED:20230914T174459Z
LAST-MODIFIED:20230914T174911Z
UID:2886-1695405600-1695412800@sudsantesociaux44.fr
SUMMARY:Marche unitaire contre les violences policières\, contre le racisme systémique et pour les libertés publiques
DESCRIPTION:Nantes 6 Quai Ceineray
URL:https://sudsantesociaux44.fr/event/2886/
END:VEVENT
BEGIN:VEVENT
DTSTART;TZID=Europe/Paris:20230923T093000
DTEND;TZID=Europe/Paris:20230923T190000
DTSTAMP:20260422T020318
CREATED:20230914T175206Z
LAST-MODIFIED:20230914T175207Z
UID:2893-1695461400-1695495600@sudsantesociaux44.fr
SUMMARY:23 SEPTEMBRE – SAINT-BRÉVIN – COLLOQUE NATIONAL ACCUEILLIR LES EXILÉ·ES\, POURQUOI ? COMMENT ?
DESCRIPTION:Saint-Brévin – Etoile de Jade
URL:https://sudsantesociaux44.fr/event/23-septembre-saint-brevin-colloque-national-accueillir-les-exile%c2%b7es-pourquoi-comment/
END:VEVENT
BEGIN:VEVENT
DTSTART;TZID=Europe/Paris:20230923T110000
DTEND;TZID=Europe/Paris:20230923T130000
DTSTAMP:20260422T020318
CREATED:20230914T174847Z
LAST-MODIFIED:20230914T174848Z
UID:2890-1695466800-1695474000@sudsantesociaux44.fr
SUMMARY:Marche unitaire contre les violences policières\, contre le racisme systémique et pour les libertés publiques
DESCRIPTION:
URL:https://sudsantesociaux44.fr/event/marche-unitaire-contre-les-violences-policieres-contre-le-racisme-systemique-et-pour-les-libertes-publiques/
END:VEVENT
END:VCALENDAR